Package: compEpiTools Version: 1.42.0 Command: /Library/Frameworks/R.framework/Resources/bin/R CMD INSTALL compEpiTools StartedAt: 2025-10-13 16:27:52 -0400 (Mon, 13 Oct 2025) EndedAt: 2025-10-13 16:29:53 -0400 (Mon, 13 Oct 2025) EllapsedTime: 120.9 seconds RetCode: 0 Status: OK