Package: compEpiTools Version: 1.42.0 Command: rm -rf compEpiTools.buildbin-libdir && mkdir compEpiTools.buildbin-libdir && /Users/biocbuild/BBS/utils/build-universal.sh compEpiTools_1.42.0.tar.gz /Library/Frameworks/R.framework/Resources/bin/R compEpiTools.buildbin-libdir StartedAt: 2025-10-15 17:58:15 -0400 (Wed, 15 Oct 2025) EndedAt: 2025-10-15 17:59:29 -0400 (Wed, 15 Oct 2025) EllapsedTime: 74.1 seconds RetCode: 0 Status: OK PackageFile: compEpiTools_1.42.0.tgz PackageFileSize: 2.346 MiB