Package: combi Version: 1.20.0 Command: /home/biocbuild/R/R/bin/R CMD build --keep-empty-dirs --no-resave-data combi StartedAt: 2025-10-13 23:47:31 -0000 (Mon, 13 Oct 2025) EndedAt: 2025-10-13 23:51:53 -0000 (Mon, 13 Oct 2025) EllapsedTime: 262.1 seconds RetCode: 0 Status: OK PackageFile: combi_1.20.0.tar.gz PackageFileSize: 1.397 MiB