Package: comapr Version: 1.12.0 Command: /home/biocbuild/R/R/bin/R CMD INSTALL comapr StartedAt: 2025-10-13 21:02:53 -0000 (Mon, 13 Oct 2025) EndedAt: 2025-10-13 21:04:07 -0000 (Mon, 13 Oct 2025) EllapsedTime: 73.6 seconds RetCode: 0 Status: OK