Package: comapr Version: 1.12.0 Command: /home/biocbuild/R/R/bin/R CMD build --keep-empty-dirs --no-resave-data comapr StartedAt: 2025-10-13 23:47:23 -0000 (Mon, 13 Oct 2025) EndedAt: 2025-10-13 23:49:22 -0000 (Mon, 13 Oct 2025) EllapsedTime: 119.0 seconds RetCode: 0 Status: OK PackageFile: comapr_1.12.0.tar.gz PackageFileSize: 989.8 KiB