Package: cogena Version: 1.42.0 Command: /home/biocbuild/R/R/bin/R CMD INSTALL cogena StartedAt: 2025-10-13 20:25:22 -0000 (Mon, 13 Oct 2025) EndedAt: 2025-10-13 20:25:45 -0000 (Mon, 13 Oct 2025) EllapsedTime: 22.9 seconds RetCode: 0 Status: OK