Package: cogena Version: 1.42.0 Command: /home/biocbuild/R/R/bin/R CMD build --keep-empty-dirs --no-resave-data cogena StartedAt: 2025-10-13 23:45:22 -0000 (Mon, 13 Oct 2025) EndedAt: 2025-10-13 23:50:22 -0000 (Mon, 13 Oct 2025) EllapsedTime: 300.1 seconds RetCode: 0 Status: OK PackageFile: cogena_1.42.0.tar.gz PackageFileSize: 7.192 MiB