Package: codelink Version: 1.76.0 Command: /home/biocbuild/bbs-3.21-bioc/R/bin/R CMD INSTALL codelink StartedAt: 2025-10-15 15:30:58 -0400 (Wed, 15 Oct 2025) EndedAt: 2025-10-15 15:31:15 -0400 (Wed, 15 Oct 2025) EllapsedTime: 17.0 seconds RetCode: 0 Status: OK