Package: cmapR Version: 1.20.0 Command: /home/biocbuild/R/R/bin/R CMD INSTALL cmapR StartedAt: 2025-10-13 20:34:03 -0000 (Mon, 13 Oct 2025) EndedAt: 2025-10-13 20:34:39 -0000 (Mon, 13 Oct 2025) EllapsedTime: 35.7 seconds RetCode: 0 Status: OK