Package: cmapR Version: 1.20.0 Command: /home/biocbuild/R/R/bin/R CMD build --keep-empty-dirs --no-resave-data cmapR StartedAt: 2025-10-13 23:42:36 -0000 (Mon, 13 Oct 2025) EndedAt: 2025-10-13 23:43:57 -0000 (Mon, 13 Oct 2025) EllapsedTime: 81.0 seconds RetCode: 0 Status: OK PackageFile: cmapR_1.20.0.tar.gz PackageFileSize: 3.766 MiB