Package: clustifyr Version: 1.20.0 Command: /home/biocbuild/bbs-3.21-bioc/R/bin/R CMD check --install=check:clustifyr.install-out.txt --library=/home/biocbuild/bbs-3.21-bioc/R/site-library --timings clustifyr_1.20.0.tar.gz StartedAt: 2025-10-15 21:51:15 -0400 (Wed, 15 Oct 2025) EndedAt: 2025-10-15 22:03:18 -0400 (Wed, 15 Oct 2025) EllapsedTime: 722.9 seconds RetCode: 0 Status: OK CheckDir: clustifyr.Rcheck Warnings: 0