Package: clustifyr Version: 1.20.0 Command: /home/biocbuild/R/R/bin/R CMD INSTALL clustifyr StartedAt: 2025-10-13 20:31:50 -0000 (Mon, 13 Oct 2025) EndedAt: 2025-10-13 20:32:38 -0000 (Mon, 13 Oct 2025) EllapsedTime: 48.3 seconds RetCode: 0 Status: OK