Package: clustifyr Version: 1.20.0 Command: /home/biocbuild/R/R/bin/R CMD build --keep-empty-dirs --no-resave-data clustifyr StartedAt: 2025-10-13 23:42:02 -0000 (Mon, 13 Oct 2025) EndedAt: 2025-10-13 23:43:26 -0000 (Mon, 13 Oct 2025) EllapsedTime: 84.0 seconds RetCode: 0 Status: OK PackageFile: clustifyr_1.20.0.tar.gz PackageFileSize: 3.164 MiB