Package: clustifyr Version: 1.20.0 Command: rm -rf clustifyr.buildbin-libdir && mkdir clustifyr.buildbin-libdir && /Users/biocbuild/BBS/utils/build-universal.sh clustifyr_1.20.0.tar.gz /Library/Frameworks/R.framework/Resources/bin/R clustifyr.buildbin-libdir StartedAt: 2025-10-15 17:54:10 -0400 (Wed, 15 Oct 2025) EndedAt: 2025-10-15 17:54:54 -0400 (Wed, 15 Oct 2025) EllapsedTime: 43.8 seconds RetCode: 0 Status: OK PackageFile: clustifyr_1.20.0.tgz PackageFileSize: 3.962 MiB