Package: clusterStab Version: 1.80.0 Command: /home/biocbuild/bbs-3.21-bioc/R/bin/R CMD INSTALL clusterStab StartedAt: 2025-10-15 15:12:14 -0400 (Wed, 15 Oct 2025) EndedAt: 2025-10-15 15:12:17 -0400 (Wed, 15 Oct 2025) EllapsedTime: 3.5 seconds RetCode: 0 Status: OK