Package: clusterStab Version: 1.80.0 Command: /home/biocbuild/bbs-3.21-bioc/R/bin/R CMD build --keep-empty-dirs --no-resave-data clusterStab StartedAt: 2025-10-15 16:48:14 -0400 (Wed, 15 Oct 2025) EndedAt: 2025-10-15 16:48:27 -0400 (Wed, 15 Oct 2025) EllapsedTime: 13.0 seconds RetCode: 0 Status: OK PackageFile: clusterStab_1.80.0.tar.gz PackageFileSize: 185.5 KiB