Package: clusterStab Version: 1.80.0 Command: /home/biocbuild/R/R/bin/R CMD build --keep-empty-dirs --no-resave-data clusterStab StartedAt: 2025-10-13 23:41:45 -0000 (Mon, 13 Oct 2025) EndedAt: 2025-10-13 23:42:02 -0000 (Mon, 13 Oct 2025) EllapsedTime: 17.0 seconds RetCode: 0 Status: OK PackageFile: clusterStab_1.80.0.tar.gz PackageFileSize: 179 KiB