Package: clusterStab Version: 1.80.0 Command: /Library/Frameworks/R.framework/Resources/bin/R CMD build --keep-empty-dirs --no-resave-data clusterStab StartedAt: 2025-10-13 21:31:24 -0400 (Mon, 13 Oct 2025) EndedAt: 2025-10-13 21:31:45 -0400 (Mon, 13 Oct 2025) EllapsedTime: 20.2 seconds RetCode: 0 Status: OK PackageFile: clusterStab_1.80.0.tar.gz PackageFileSize: 185.7 KiB