Package: clusterSeq Version: 1.32.0 Command: /home/biocbuild/bbs-3.21-bioc/R/bin/R CMD build --keep-empty-dirs --no-resave-data clusterSeq StartedAt: 2025-10-15 16:48:04 -0400 (Wed, 15 Oct 2025) EndedAt: 2025-10-15 16:48:57 -0400 (Wed, 15 Oct 2025) EllapsedTime: 53.0 seconds RetCode: 0 Status: OK PackageFile: clusterSeq_1.32.0.tar.gz PackageFileSize: 1.009 MiB