Package: clusterSeq Version: 1.32.0 Command: /Library/Frameworks/R.framework/Resources/bin/R CMD INSTALL clusterSeq StartedAt: 2025-10-13 15:31:08 -0400 (Mon, 13 Oct 2025) EndedAt: 2025-10-13 15:31:37 -0400 (Mon, 13 Oct 2025) EllapsedTime: 29.3 seconds RetCode: 0 Status: OK