Package: clusterSeq Version: 1.32.0 Command: /home/biocbuild/R/R/bin/R CMD INSTALL clusterSeq StartedAt: 2025-10-13 20:29:32 -0000 (Mon, 13 Oct 2025) EndedAt: 2025-10-13 20:29:51 -0000 (Mon, 13 Oct 2025) EllapsedTime: 19.6 seconds RetCode: 0 Status: OK