Package: clusterSeq Version: 1.32.0 Command: /home/biocbuild/R/R/bin/R CMD build --keep-empty-dirs --no-resave-data clusterSeq StartedAt: 2025-10-13 23:41:11 -0000 (Mon, 13 Oct 2025) EndedAt: 2025-10-13 23:42:42 -0000 (Mon, 13 Oct 2025) EllapsedTime: 91.0 seconds RetCode: 0 Status: OK PackageFile: clusterSeq_1.32.0.tar.gz PackageFileSize: 1.002 MiB