Package: clusterSeq Version: 1.32.0 Command: /Library/Frameworks/R.framework/Resources/bin/R CMD INSTALL clusterSeq StartedAt: 2025-10-13 16:26:44 -0400 (Mon, 13 Oct 2025) EndedAt: 2025-10-13 16:27:01 -0400 (Mon, 13 Oct 2025) EllapsedTime: 16.1 seconds RetCode: 0 Status: OK