Package: clusterSeq Version: 1.32.0 Command: /Library/Frameworks/R.framework/Resources/bin/R CMD build --keep-empty-dirs --no-resave-data clusterSeq StartedAt: 2025-10-13 21:29:11 -0400 (Mon, 13 Oct 2025) EndedAt: 2025-10-13 21:30:20 -0400 (Mon, 13 Oct 2025) EllapsedTime: 68.8 seconds RetCode: 0 Status: OK PackageFile: clusterSeq_1.32.0.tar.gz PackageFileSize: 1.009 MiB