Package: clusterSeq Version: 1.32.0 Command: rm -rf clusterSeq.buildbin-libdir && mkdir clusterSeq.buildbin-libdir && /Users/biocbuild/BBS/utils/build-universal.sh clusterSeq_1.32.0.tar.gz /Library/Frameworks/R.framework/Resources/bin/R clusterSeq.buildbin-libdir StartedAt: 2025-10-15 17:53:56 -0400 (Wed, 15 Oct 2025) EndedAt: 2025-10-15 17:54:16 -0400 (Wed, 15 Oct 2025) EllapsedTime: 19.2 seconds RetCode: 0 Status: OK PackageFile: clusterSeq_1.32.0.tgz PackageFileSize: 1.053 MiB