Package: clusterProfiler Version: 4.16.0 Command: /home/biocbuild/bbs-3.21-bioc/R/bin/R CMD INSTALL clusterProfiler StartedAt: 2025-10-15 15:48:13 -0400 (Wed, 15 Oct 2025) EndedAt: 2025-10-15 15:48:39 -0400 (Wed, 15 Oct 2025) EllapsedTime: 25.6 seconds RetCode: 0 Status: OK