Package: clusterProfiler Version: 4.16.0 Command: /Library/Frameworks/R.framework/Resources/bin/R CMD INSTALL clusterProfiler StartedAt: 2025-10-13 17:50:26 -0400 (Mon, 13 Oct 2025) EndedAt: 2025-10-13 17:50:55 -0400 (Mon, 13 Oct 2025) EllapsedTime: 29.1 seconds RetCode: 0 Status: OK