Package: clusterExperiment Version: 2.28.1 Command: /home/biocbuild/bbs-3.21-bioc/R/bin/R CMD INSTALL clusterExperiment StartedAt: 2025-10-15 15:53:42 -0400 (Wed, 15 Oct 2025) EndedAt: 2025-10-15 15:54:58 -0400 (Wed, 15 Oct 2025) EllapsedTime: 75.8 seconds RetCode: 0 Status: OK