Package: clusterExperiment Version: 2.28.1 Command: /home/biocbuild/bbs-3.21-bioc/R/bin/R CMD build --keep-empty-dirs --no-resave-data clusterExperiment StartedAt: 2025-10-15 16:47:37 -0400 (Wed, 15 Oct 2025) EndedAt: 2025-10-15 16:52:44 -0400 (Wed, 15 Oct 2025) EllapsedTime: 307.3 seconds RetCode: 0 Status: OK PackageFile: clusterExperiment_2.28.1.tar.gz PackageFileSize: 12.02 MiB