Package: clusterExperiment Version: 2.28.0 Command: /Library/Frameworks/R.framework/Resources/bin/R CMD build --keep-empty-dirs --no-resave-data clusterExperiment StartedAt: 2025-04-21 15:55:41 -0400 (Mon, 21 Apr 2025) EndedAt: 2025-04-21 15:57:53 -0400 (Mon, 21 Apr 2025) EllapsedTime: 131.5 seconds RetCode: 0 Status: OK PackageFile: clusterExperiment_2.28.0.tar.gz PackageFileSize: 12.08 MiB