Package: clusterExperiment Version: 2.28.1 Command: /Library/Frameworks/R.framework/Resources/bin/R CMD INSTALL clusterExperiment StartedAt: 2025-10-13 18:10:50 -0400 (Mon, 13 Oct 2025) EndedAt: 2025-10-13 18:12:17 -0400 (Mon, 13 Oct 2025) EllapsedTime: 87.1 seconds RetCode: 0 Status: OK