Package: clusterExperiment Version: 2.28.1 Command: /Library/Frameworks/R.framework/Resources/bin/R CMD build --keep-empty-dirs --no-resave-data clusterExperiment StartedAt: 2025-10-13 21:26:21 -0400 (Mon, 13 Oct 2025) EndedAt: 2025-10-13 21:32:39 -0400 (Mon, 13 Oct 2025) EllapsedTime: 377.3 seconds RetCode: 0 Status: OK PackageFile: clusterExperiment_2.28.1.tar.gz PackageFileSize: 12.07 MiB