Package: clusterExperiment Version: 2.28.1 Command: rm -rf clusterExperiment.buildbin-libdir && mkdir clusterExperiment.buildbin-libdir && /Users/biocbuild/BBS/utils/build-universal.sh clusterExperiment_2.28.1.tar.gz /Library/Frameworks/R.framework/Resources/bin/R clusterExperiment.buildbin-libdir StartedAt: 2025-10-15 17:53:32 -0400 (Wed, 15 Oct 2025) EndedAt: 2025-10-15 17:54:51 -0400 (Wed, 15 Oct 2025) EllapsedTime: 79.8 seconds RetCode: 0 Status: OK PackageFile: clusterExperiment_2.28.1.tgz PackageFileSize: 13.07 MiB