Package: clustSIGNAL Version: 1.0.0 Command: /home/biocbuild/bbs-3.21-bioc/R/bin/R CMD INSTALL clustSIGNAL StartedAt: 2025-10-15 15:56:10 -0400 (Wed, 15 Oct 2025) EndedAt: 2025-10-15 15:56:41 -0400 (Wed, 15 Oct 2025) EllapsedTime: 30.8 seconds RetCode: 0 Status: OK