Package: clustSIGNAL Version: 1.0.0 Command: /home/biocbuild/R/R/bin/R CMD INSTALL clustSIGNAL StartedAt: 2025-10-13 21:16:19 -0000 (Mon, 13 Oct 2025) EndedAt: 2025-10-13 21:17:04 -0000 (Mon, 13 Oct 2025) EllapsedTime: 44.8 seconds RetCode: 0 Status: OK