Package: clustSIGNAL Version: 1.0.0 Command: /Library/Frameworks/R.framework/Resources/bin/R CMD build --keep-empty-dirs --no-resave-data clustSIGNAL StartedAt: 2025-10-13 21:32:39 -0400 (Mon, 13 Oct 2025) EndedAt: 2025-10-13 21:34:35 -0400 (Mon, 13 Oct 2025) EllapsedTime: 116.4 seconds RetCode: 0 Status: OK PackageFile: clustSIGNAL_1.0.0.tar.gz PackageFileSize: 4.587 MiB