Package: clustComp Version: 1.36.0 Command: /home/biocbuild/bbs-3.21-bioc/R/bin/R CMD INSTALL clustComp StartedAt: 2025-10-15 15:01:51 -0400 (Wed, 15 Oct 2025) EndedAt: 2025-10-15 15:01:59 -0400 (Wed, 15 Oct 2025) EllapsedTime: 7.6 seconds RetCode: 0 Status: OK