Package: clustComp Version: 1.36.0 Command: /home/biocbuild/R/R/bin/R CMD build --keep-empty-dirs --no-resave-data clustComp StartedAt: 2025-10-13 23:41:00 -0000 (Mon, 13 Oct 2025) EndedAt: 2025-10-13 23:42:16 -0000 (Mon, 13 Oct 2025) EllapsedTime: 76.0 seconds RetCode: 0 Status: OK PackageFile: clustComp_1.36.0.tar.gz PackageFileSize: 925.3 KiB