Package: clustComp Version: 1.36.0 Command: /Library/Frameworks/R.framework/Resources/bin/R CMD build --keep-empty-dirs --no-resave-data clustComp StartedAt: 2025-10-13 21:26:17 -0400 (Mon, 13 Oct 2025) EndedAt: 2025-10-13 21:27:30 -0400 (Mon, 13 Oct 2025) EllapsedTime: 73.0 seconds RetCode: 0 Status: OK PackageFile: clustComp_1.36.0.tar.gz PackageFileSize: 931.5 KiB