Package: clstutils Version: 1.56.0 Command: /home/biocbuild/R/R/bin/R CMD INSTALL clstutils StartedAt: 2025-10-13 20:17:44 -0000 (Mon, 13 Oct 2025) EndedAt: 2025-10-13 20:18:31 -0000 (Mon, 13 Oct 2025) EllapsedTime: 46.7 seconds RetCode: 0 Status: OK