Package: clstutils Version: 1.56.0 Command: /home/biocbuild/R/R/bin/R CMD build --keep-empty-dirs --no-resave-data clstutils StartedAt: 2025-10-13 23:40:49 -0000 (Mon, 13 Oct 2025) EndedAt: 2025-10-13 23:41:08 -0000 (Mon, 13 Oct 2025) EllapsedTime: 19.0 seconds RetCode: 0 Status: OK PackageFile: clstutils_1.56.0.tar.gz PackageFileSize: 2.681 MiB