Package: clstutils Version: 1.56.0 Command: /Library/Frameworks/R.framework/Resources/bin/R CMD build --keep-empty-dirs --no-resave-data clstutils StartedAt: 2025-10-13 21:25:47 -0400 (Mon, 13 Oct 2025) EndedAt: 2025-10-13 21:26:17 -0400 (Mon, 13 Oct 2025) EllapsedTime: 29.6 seconds RetCode: 0 Status: OK PackageFile: clstutils_1.56.0.tar.gz PackageFileSize: 2.695 MiB