Package: clst Version: 1.56.0 Command: /home/biocbuild/R/R/bin/R CMD INSTALL clst StartedAt: 2025-10-13 20:16:53 -0000 (Mon, 13 Oct 2025) EndedAt: 2025-10-13 20:17:42 -0000 (Mon, 13 Oct 2025) EllapsedTime: 48.4 seconds RetCode: 0 Status: OK