Package: clst Version: 1.56.0 Command: /home/biocbuild/R/R/bin/R CMD build --keep-empty-dirs --no-resave-data clst StartedAt: 2025-10-13 23:40:40 -0000 (Mon, 13 Oct 2025) EndedAt: 2025-10-13 23:41:00 -0000 (Mon, 13 Oct 2025) EllapsedTime: 20.0 seconds RetCode: 0 Status: OK PackageFile: clst_1.56.0.tar.gz PackageFileSize: 1.006 MiB