Package: cliqueMS Version: 1.22.0 Command: /home/biocbuild/bbs-3.21-bioc/R/bin/R CMD INSTALL cliqueMS StartedAt: 2025-10-15 15:38:31 -0400 (Wed, 15 Oct 2025) EndedAt: 2025-10-15 15:39:41 -0400 (Wed, 15 Oct 2025) EllapsedTime: 70.1 seconds RetCode: 0 Status: OK