Package: cliqueMS Version: 1.22.0 Command: /home/biocbuild/R/R/bin/R CMD INSTALL cliqueMS StartedAt: 2025-10-13 21:01:19 -0000 (Mon, 13 Oct 2025) EndedAt: 2025-10-13 21:03:02 -0000 (Mon, 13 Oct 2025) EllapsedTime: 103.5 seconds RetCode: 0 Status: OK