Package: cliqueMS Version: 1.22.0 Command: /home/biocbuild/R/R/bin/R CMD build --keep-empty-dirs --no-resave-data cliqueMS StartedAt: 2025-10-13 23:39:43 -0000 (Mon, 13 Oct 2025) EndedAt: 2025-10-13 23:42:03 -0000 (Mon, 13 Oct 2025) EllapsedTime: 140.1 seconds RetCode: 0 Status: OK PackageFile: cliqueMS_1.22.0.tar.gz PackageFileSize: 557.3 KiB