Package: clipper Version: 1.48.0 Command: /home/biocbuild/R/R/bin/R CMD INSTALL clipper StartedAt: 2025-10-13 20:59:26 -0000 (Mon, 13 Oct 2025) EndedAt: 2025-10-13 21:00:22 -0000 (Mon, 13 Oct 2025) EllapsedTime: 55.4 seconds RetCode: 0 Status: OK