Package: clipper Version: 1.48.0 Command: /home/biocbuild/R/R/bin/R CMD build --keep-empty-dirs --no-resave-data clipper StartedAt: 2025-10-13 23:39:27 -0000 (Mon, 13 Oct 2025) EndedAt: 2025-10-13 23:41:11 -0000 (Mon, 13 Oct 2025) EllapsedTime: 104.0 seconds RetCode: 0 Status: OK PackageFile: clipper_1.48.0.tar.gz PackageFileSize: 998.9 KiB