Package: cliProfiler Version: 1.14.0 Command: /home/biocbuild/bbs-3.21-bioc/R/bin/R CMD build --keep-empty-dirs --no-resave-data cliProfiler StartedAt: 2025-10-15 16:47:00 -0400 (Wed, 15 Oct 2025) EndedAt: 2025-10-15 16:48:13 -0400 (Wed, 15 Oct 2025) EllapsedTime: 73.1 seconds RetCode: 0 Status: OK PackageFile: cliProfiler_1.14.0.tar.gz PackageFileSize: 1.209 MiB